BEGIN:VCALENDAR
PRODID:Beatriz Milhazes at MAB – Museu de Arte da Bahia
CALSCALE:GREGORIAN
VERSION:2.0
METHOD:PUBLISH
TRANSP:TRANSPARENT
X-WR-CALNAME:Beatriz Milhazes at MAB – Museu de Arte da Bahia
X-WR-TIMEZONE:Europe/London
BEGIN:VEVENT
UID:https://www.whitecube.com/news/beatriz-milhazes-at-mab-museu-de-arte-da
	-bahia
DTSTART:20260129T000000
DTEND:20260426T000000
SUMMARY: Beatriz Milhazes at MAB – Museu de Arte da Bahia
URL:https://www.whitecube.com/news/beatriz-milhazes-at-mab-museu-de-arte-da
	-bahia
END:VEVENT
END:VCALENDAR