BEGIN:VCALENDAR
PRODID:Ibrahim Mahama in the Biennale of Sydney 2020
CALSCALE:GREGORIAN
VERSION:2.0
METHOD:PUBLISH
TRANSP:TRANSPARENT
X-WR-CALNAME:Ibrahim Mahama in the Biennale of Sydney 2020
X-WR-TIMEZONE:Europe/London
BEGIN:VEVENT
UID:https:/www.whitecube.com/news/ibrahim-mahama-in-the-biennale-of-sydney-
	2020
DTSTART:20200314T000000
DTEND:20200906T000000
SUMMARY: Ibrahim Mahama in the Biennale of Sydney 2020
URL:https:/www.whitecube.com/news/ibrahim-mahama-in-the-biennale-of-sydney-
	2020
END:VEVENT
END:VCALENDAR