BEGIN:VCALENDAR
PRODID:Georg Baselitz at Fondazione Giorgio Cini
CALSCALE:GREGORIAN
VERSION:2.0
METHOD:PUBLISH
TRANSP:TRANSPARENT
X-WR-CALNAME:Georg Baselitz at Fondazione Giorgio Cini
X-WR-TIMEZONE:Europe/London
BEGIN:VEVENT
UID:https://www.whitecube.com/news/georg-baselitz-at-fondazione-giorgio-cin
	i
DTSTART:20260506T000000
DTEND:20260927T000000
SUMMARY: Georg Baselitz at Fondazione Giorgio Cini
URL:https://www.whitecube.com/news/georg-baselitz-at-fondazione-giorgio-cin
	i
END:VEVENT
END:VCALENDAR