BEGIN:VCALENDAR
PRODID:Louise Giovanelli at Museum Villa Stuck
CALSCALE:GREGORIAN
VERSION:2.0
METHOD:PUBLISH
TRANSP:TRANSPARENT
X-WR-CALNAME:Louise Giovanelli at Museum Villa Stuck
X-WR-TIMEZONE:Europe/London
BEGIN:VEVENT
UID:https:/www.whitecube.com/news/louise-giovanelli-at-museum-villa-stuck
DTSTART:20251018T000000
DTEND:20260301T000000
SUMMARY: Louise Giovanelli at Museum Villa Stuck
URL:https:/www.whitecube.com/news/louise-giovanelli-at-museum-villa-stuck
END:VEVENT
END:VCALENDAR