BEGIN:VCALENDAR
PRODID:Isamu Noguchi in the Rijksmuseum Gardens
CALSCALE:GREGORIAN
VERSION:2.0
METHOD:PUBLISH
TRANSP:TRANSPARENT
X-WR-CALNAME:Isamu Noguchi in the Rijksmuseum Gardens
X-WR-TIMEZONE:Europe/London
BEGIN:VEVENT
UID:https://www.whitecube.com/news/isamu-noguchi-in-the-rijksmuseum-gardens
DTSTART:20250528T000000
DTEND:20251026T000000
SUMMARY: Isamu Noguchi in the Rijksmuseum Gardens
URL:https://www.whitecube.com/news/isamu-noguchi-in-the-rijksmuseum-gardens
END:VEVENT
END:VCALENDAR