BEGIN:VCALENDAR
PRODID:White Cube in Miami and West Palm Beach
CALSCALE:GREGORIAN
VERSION:2.0
METHOD:PUBLISH
TRANSP:TRANSPARENT
X-WR-CALNAME:White Cube in Miami and West Palm Beach
X-WR-TIMEZONE:Europe/London
BEGIN:VEVENT
UID:https://www.whitecube.com/news/white-cube-in-miami-and-west-palm-beach
DTSTART:20231206T000000
DTEND:20231210T000000
SUMMARY: White Cube in Miami and West Palm Beach
URL:https://www.whitecube.com/news/white-cube-in-miami-and-west-palm-beach
END:VEVENT
END:VCALENDAR